Workbook

Sheet Tax Rate Summary over the years
A1: Summary over the years | H1: Appraised
C2: Tax Rate | D2: Percent Raised | F2: Tax Revenue | G2: Taxable value | H2: value of house
A3: 2005 | B3: Tax Rate was | C3: 0.221958 | E3: per 100 | F3: 677564
A4: =A3+1 -> 2006 | B4: Tax Rate was | C4: 0.213406 | E4: per 100 | F4: 745612
A5: =A4+1 -> 2007 | B5: Tax Rate was | C5: 0.145758 | E5: per 100 | F5: 1049278.4
A6: =A5+1 -> 2008 | B6: Tax Rate was | C6: 0.186897 | E6: per 100 | F6: 909684.43
A7: =A6+1 -> 2009 | B7: Tax Rate was | C7: 0.189727 | E7: per 100 | F7: 976334.08 | H7: 89012
A8: =A7+1 -> 2010 | B8: Tax Rate was | C8: 0.189098 | D8: 0 | E8: per 100 | F8: 979692.24 | G8: 518086515 | H8: 89308
A9: =A8+1 -> 2011 | B9: Tax Rate was | C9: 0.188304 | D9: 0 | E9: per 100 | F9: 1008771.4 | G9: 535715699 | H9: 112106
A10: =A9+1 -> 2012 | B10: Tax Rate was | C10: 0.193966 | D10: 0.05 | E10: per 100 | F10: 1036837.5 | G10: 535545155 | H10: 114275
A11: =A10+1 -> 2013 | B11: Tax Rate was | C11: 0.193194 | D11: 0.03 | E11: per 100 | F11: 1110405.4 | H11: 118171
A12: =A11+1 -> 2014 | B12: Tax Rate was | C12: 0.179233 | E12: per 100 | F12: 1245291.1
A13: =A12+1 -> 2015 | B13: Tax Rate was | C13: 0.171667 | E13: per 100 | F13: 1271105.4 | G13: 666573171
A14: =A13+1 -> 2016 | B14: Tax Rate was | C14: 0.156283 | D14: 0.04 | E14: per 100 | F14: 1313145.1 | G14: 840235274 | H14: 126404
A15: =A14+1 -> 2017 | B15: Tax Rate was | C15: 0.150131 | D15: 0.03 | E15: per 100 | F15: 1445807.4 | G15: 963032231 | H15: 135533
A16: =A15+1 -> 2018 | B16: Tax Rate was | C16: 0.154637 | D16: 0.03 | E16: per 100 | F16: 1583638.8 | H16: 139793
A17: =A16+1 -> 2019 | B17: Tax Rate was | C17: 0.151131 | D17: 0.04 | E17: per 100 | F17: 1810891 | G17: 1198226064 | H17: 155286
A18: =A17+1 -> 2020 | B18: Tax Rate was | E18: per 100 | G18: 1433389576 | H18: 165244
A19: =A18+1 -> 2021 | B19: Tax Rate was | E19: per 100
A20: =A19+1 -> 2022 | B20: Tax Rate was | E20: per 100
A21: =A20+1 -> 2023 | B21: Tax Rate was | E21: per 100
A22: =A21+1 -> 2024 | B22: Tax Rate was | D22: 0.035 | E22: per 100
A23: =A22+1 -> 2025 | B23: Tax Rate was | D23: 0.035 | E23: per 100
A24: =A23+1 -> 2026 | B24: Tax Rate was | C24: 0.1079299 | D24: 0.03 | E24: per 100 | F24: 4791690.1 | G24: 4388308275
A25: =A24+1 -> 2027 | E25: per 100
A26: =A25+1 -> 2028 | E26: per 100
A27: =A26+1 -> 2029 | E27: per 100

Sheet Budget
A1: Brazoria County Dranage District Budget 2026/2027
A2: Budget Item | B2: Budget 25-26 | C2: Budget spent as of 8/6/2026 | D2: Final Budget 2026 - 2027
A4: Advertising | B4: 1000 | C4: 429 | D4: 1000 | F4: 2026 Tax rate is per $ 100 Taxable value = | H4: ='Proposed Tax Rate 2026'!E16 -> 319.49
A5: Auditor | B5: 15000 | C5: 5800 | D5: 18000 | H5: ='Proposed Tax Rate 2026'!E21 -> 4388308275 | J5: Increase in budget | K5: Increase in cost in tax
A6: Braz. County Assistance | B6: 2000 | C6: 1400 | D6: 2000 | F6: % increase | G6: Rate | H6: Generated Tax Revenue
A7: Book Keeper | B7: 45000 | C7: 69671 | D7: 45000 | F7: ='Posted Tax Rate 2024'!B4 -> 0 | G7: ='Posted Tax Rate 2025'!D4 -> 0.10478631 | H7: ='Proposed Tax Rate 2026'!F4 -> 4652126.3 | I7: ='Proposed Tax Rate 2026'!C4 -> 319.49 | J7: 0 | K7: ='Posted Tax Rates 2023'!J4 -> 0
A8: Braz. County Appraisal | B8: 20000 | C8: 32818.5 | D8: 20000 | F8: ='Posted Tax Rate 2024'!B5 -> 0.01 | G8: ='Posted Tax Rate 2025'!D5 -> 0.10583418 | H8: ='Proposed Tax Rate 2026'!F5 -> 4698647.6 | I8: ='Proposed Tax Rate 2026'!C5 -> 322.6849 | J8: =H8-$H$7 -> 46521.263 | K8: =I8-$I$7 -> 3.1949
A9: Riprap, Gravel | B9: 10000 | C9: 4212.01 | D9: 10000 | F9: ='Posted Tax Rate 2024'!B6 -> 0.02 | G9: ='Posted Tax Rate 2025'!D6 -> 0.10688204 | H9: ='Proposed Tax Rate 2026'!F6 -> 4745168.8 | I9: ='Proposed Tax Rate 2026'!C6 -> 325.8798 | J9: =H9-$H$7 -> 93042.526 | K9: =I9-$I$7 -> 6.3898
A10: Building Improvements | B10: 150000 | C10: 271000 | D10: 100000 | F10: ='Posted Tax Rate 2024'!B7 -> 0.03 | G10: ='Posted Tax Rate 2025'!D7 -> 0.1079299 | H10: ='Proposed Tax Rate 2026'!F7 -> 4791690.1 | I10: ='Proposed Tax Rate 2026'!C7 -> 329.0747 | J10: =H10-$H$7 -> 139563.79 | K10: =I10-$I$7 -> 9.5847
A11: Design of New Office Building | B11: 55000 | C11: 56625 | D11: 0 | F11: ='Posted Tax Rate 2024'!B8 -> 0.035 | G11: ='Posted Tax Rate 2025'!D8 -> 0.10845383 | H11: ='Proposed Tax Rate 2026'!F8 -> 4814950.7 | I11: ='Proposed Tax Rate 2026'!C8 -> 330.67215 | J11: =H11-$H$7 -> 162824.42 | K11: =I11-$I$7 -> 11.18215
A12: New Office Building | B12: 20000 | C12: 0 | D12: 500000 | F12: ='Posted Tax Rate 2024'!B9 -> 0.04 | G12: ='Posted Tax Rate 2025'!D9 -> 0.10897777 | H12: ='Proposed Tax Rate 2026'!F9 -> 4838211.4 | I12: ='Proposed Tax Rate 2026'!C9 -> 332.2696 | J12: =H12-$H$7 -> 186085.05 | K12: =I12-$I$7 -> 12.7796
A13: Chemical Spraying | B13: 35000 | C13: 27658.4 | D13: 30000 | F13: ='Posted Tax Rate 2024'!B10 -> 0.05 | G13: ='Posted Tax Rate 2025'!D10 -> 0.11002563 | H13: ='Proposed Tax Rate 2026'!F10 -> 4884732.6 | I13: ='Proposed Tax Rate 2026'!C10 -> 335.4645 | J13: =H13-$H$7 -> 232606.32 | K13: =I13-$I$7 -> 15.9745
A14: Contingency | B14: 100000 | C14: 0 | D14: 100000 | F14: ='Posted Tax Rate 2024'!B11 -> 0.06 | G14: ='Posted Tax Rate 2025'!D11 -> 0.11107349 | H14: ='Proposed Tax Rate 2026'!F11 -> 4931253.9 | I14: ='Proposed Tax Rate 2026'!C11 -> 338.6594 | J14: =H14-$H$7 -> 279127.58 | K14: =I14-$I$7 -> 19.1694
A15: Commish Expenses | B15: 1500 | C15: 0 | D15: 1500 | F15: ='Posted Tax Rate 2024'!B12 -> 0.07 | G15: ='Posted Tax Rate 2025'!D12 -> 0.11212136 | H15: ='Proposed Tax Rate 2026'!F12 -> 4977775.2 | I15: ='Proposed Tax Rate 2026'!C12 -> 341.8543 | J15: =H15-$H$7 -> 325648.84 | K15: =I15-$I$7 -> 22.3643
A16: Commish Salary | B16: 47429.73 | C16: 43200 | D16: =Wges!J37 -> 43200 | F16: ='Posted Tax Rate 2024'!B13 -> 0.08 | G16: ='Posted Tax Rate 2025'!D13 -> 0.11316922 | H16: ='Posted Tax Rate 2025'!F13 -> 4534697.6 | I16: ='Posted Tax Rate 2025'!C13 -> 333.3852 | J16: =H16-$H$7 -> -117428.72 | K16: =I16-$I$7 -> 13.8952
A17: Educational Classes ( CDL) | B17: 4000 | C17: 2474 | D17: 6500
A18: Election 2025 | B18: 4000 | C18: 0 | D18: 0 | F18: Home Average Apprased Value = | H18: ='Proposed Tax Rate 2026'!E17 -> 301372
A19: Employee Insurance Credit Card | B19: 50400 | C19: 34800 | D19: =Wges!U29 -> 40800 | F19: 2026 Drainage Distract tax = | H19: ='Proposed Tax Rate 2026'!E16 -> 319.49
A20: Employee Insurance | B20: 289672.2 | C20: 272839.82 | D20: =Wges!$O$37 -> 301976.16
A21: Engineering District Work | B21: 14000 | C21: 0 | D21: 14000
A22: Engineering New Projects | B22: 400000 | C22: 535518.36 | D22: 600000
A23: Mowng Tractors (purchase) | B23: 180000 | C23: 175113.8 | D23: 100000
A24: Long Reach Excavator | D24: 360000
A25: Equipment Upkeep | B25: 150000 | C25: 78517.82 | D25: 150000
A26: Fence Mat. & Labor | B26: 5000 | C26: 6764.83 | D26: 5000
A27: Fuel & Supplies | B27: 250000 | C27: 117047.23 | D27: 200000
A28: Equipment Lease | B28: 100000 | C28: 159811.78 | D28: 100000
A29: Insurance Build/Liability | B29: 75000 | C29: 105195.4 | D29: 75000
A30: New Equipment | B30: 450000 | C30: 288553 | D30: 50000
A31: Legal | B31: 18000 | C31: 11780 | D31: 18000
A32: Office Supply & Expences | B32: 13000 | C32: 8778.08 | D32: 13000
A33: Pipe | B33: 30000 | C33: 25148.58 | D33: 40000
A34: Comp & Vacation Time Payout | B34: 70000 | C34: 61505.6 | D34: 70000
A35: Payroll tax | B35: 105221.32 | C35: 0 | D35: =Wges!$T$29 -> 108207.35
A36: Retirement paid by DD5 | B36: 123001.26 | C36: 104871.94 | D36: =Wges!P29 -> 35226.88
A37: Retirement paid by Employee | D37: =Wges!Q29 -> 98635.264
A38: Phone | B38: 10000 | C38: 931.46 | D38: 10000
A39: Safety | B39: 12000 | C39: 4484.19 | D39: 12000
A40: Salaries | B40: 1369724.5 | C40: 1264198.7 | D40: =Wges!$J$29 -> 1409075.2 | H40: This is the percentage for insurance and wages of the District budget.
A41: Security | B41: 3500 | C41: 12026.89 | D41: 15000
...

Sheet Wges
M1: Brazoria County Drainage District #5
M2: Working Budget 2025-2026
A4: Merrit raise 6 months = | F4: 1 | K4: =Budget!C71 -> 17.8 | L4: =Budget!C70 -> 4 | P4: DD5 | Q4: Employer pays | CX4: Merrit rast 6 months = | DC4: 1
A5: 2020-2021 Saleries, Payroll tax & Retirement | P5: =Budget!B76 -> 0.025 | Q5: =Budget!B77 -> 0.07 | R5: =Budget!B80 -> 0.062 | S5: =Budget!B84 -> 0.0145 | T5: =Budget!B88 -> 0.0027 | CX5: 2012 Saleries, Payroll tax & Retirement
C6: Hourly | D6: First of | E6: Rate | F6: Merrit | G6: Months | H6: Hourly | I6: yearly | J6: Total | L6: Insurance per month | O6: insurance | P6: Retirement | Q6: Retirement | S6: Taxes | CZ6: Hourly | DA6: First of | DB6: Rate | DC6: Merrit | DD6: Months | DE6: Hourly | DF6: yearly | DG6: Total | DI6: Insurance per month | DL6: insurance | DM6: Retirement | DO6: Taxes
C7: rate | D7: Year | E7: after | F7: Raise | G7: of | H7: rate | I7: work | J7: Wages | K7: Life | L7: AD&D | M7: Health | N7: 1/2 Family | O7: per year | P7: per year | Q7: per year | R7: SSE | S7: ME | T7: TWFC | U7: Credit Card | CZ7: rate | DA7: Year | DB7: after | DC7: Rast | DD7: of | DE7: rate | DF7: work | DG7: Wages | DH7: Life | DI7: AD&D | DJ7: Health | DK7: 1/2 Fammily | DL7: per year | DM7: =#REF! -> #REF! | DN7: SSE | DO7: ME | DP7: TWFC
C8: $ / hr | D8: merrit | E8: COL | F8: @ 6 months | G8: marret | H8: $ / hr | I8: hours | N8: Health | P8: =P5 -> 0.025 | Q8: =Q5 -> 0.07 | R8: =R5 -> 0.062 | S8: =S5 -> 0.0145 | T8: =T5 -> 0.0027 | CZ8: $ / hr | DA8: merrit | DB8: COL | DC8: @ 6 months | DD8: marret | DE8: $ / hr | DF8: hours | DK8: Health | DM8: =#REF! -> #REF! | DN8: 0.062 | DO8: 0.0145 | DP8: 0.04929
C9: 2025-2026 | E9: 2025-2026 | F9: 2025 | G9: Raise | H9: 2025-2026 | J9: 2025-2026 | M9: =Budget!C68 -> 1022.84 | N9: =Budget!C69 -> 542.16 | CZ9: 2009 | DB9: 2011 | DC9: 2010 | DD9: rase | DE9: 2010 | DG9: 2010
A10: Adam Eversole | B10: 41869 | C10: 73 | D10: 2.5 | E10: =(C10+D10)*$E$28 -> 75.5 | F10: 0 | H10: =E10+F10 -> 75.5 | I10: 2080 | J10: =(E10*(((12-G10)/12))*I10)+(H10*(G10/12)*I10) -> 157040 | K10: =$K$4 -> 17.8 | L10: =$L$4 -> 4 | M10: =$M$9 -> 1022.84 | N10: =$N$9 -> 542.16 | O10: =SUM(K10:N10)*12 -> 19041.6 | P10: =J10*$P$8 -> 3926 | Q10: =($Q$8)*J10 -> 10992.8 | R10: =$R$8*J10 -> 9736.48 | S10: =$S$8*J10 -> 2277.08 | T10: =$T$8*9000 -> 24.3 | U10: =200*12 -> 2400 | CX10: Billy Dean Norsworthy | CY10: 37655 | DA10: 0 | DC10: 0
A11: Cyndi Humphrey | B11: 44356 | C11: 39.21 | D11: 1.44 | E11: =(C11+D11)*$E$28 -> 40.65 | F11: 0 | H11: =E11+F11 -> 40.65 | I11: 2080 | J11: =(E11*(((12-G11)/12))*I11)+(H11*(G11/12)*I11) -> 84552 | K11: =$K$4 -> 17.8 | L11: =$L$4 -> 4 | M11: =$M$9 -> 1022.84 | N11: =$N$90 -> 0 | O11: =SUM(K11:N11)*12 -> 12535.68 | P11: =J11*$P$8 -> 2113.8 | Q11: =($Q$8)*J11 -> 5918.64 | R11: =$R$8*J11 -> 5242.224 | S11: =$S$8*J11 -> 1226.004 | T11: =$T$8*9000 -> 24.3 | U11: =200*12 -> 2400 | CX11: Mellinda Bahr | CY11: 37165 | CZ11: 29.15 | DA11: 0 | DB11: =(CZ11+DA11)*(1+$C$57/100) -> 29.15 | DC11: 0 | DD11: 6 | DE11: =DB11+DC11 -> 29.15 | DF11: 2080 | DG11: =(DB11*(((12-DD11)/12))*DF11)+(DE11*(DD11/12)*DF11) -> 60632 | DH11: 22 | DI11: 4 | DJ11: =DJ10 -> 0 | DK11: 0 | DL11: =SUM(DH11:DK11)*12 -> 312 | DM11: =($Q$43/100)*DG11 -> 0 | DN11: =$R$44*DG11 -> 0 | DO11: =$S$44*DG11 -> 0 | DP11: =$T$44*9000 -> 532.8
A12: Weldon Nanson | B12: 42877 | C12: 43.95 | D12: 3.05 | E12: =(C12+D12)*$E$28 -> 47 | F12: 0 | H12: =E12+F12 -> 47 | I12: 2080 | J12: =(E12*(((12-G12)/12))*I12)+(H12*(G12/12)*I12) -> 97760 | K12: =$K$4 -> 17.8 | L12: =$L$4 -> 4 | M12: =$M$9 -> 1022.84 | N12: =$N$9 -> 542.16 | O12: =SUM(K12:N12)*12 -> 19041.6 | P12: =J12*$P$8 -> 2444 | Q12: =($Q$8)*J12 -> 6843.2 | R12: =$R$8*J12 -> 6061.12 | S12: =$S$8*J12 -> 1417.52 | T12: =$T$8*9000 -> 24.3 | U12: =200*12 -> 2400 | CX12: Walter Stehle | CY12: 39643 | CZ12: 21.55 | DA12: 0 | DB12: =(CZ12+DA12)*(1+$C$57/100) -> 21.55 | DC12: 0 | DD12: 6 | DE12: =DB12+DC12 -> 21.55 | DF12: 2080 | DG12: =(DB12*(((12-DD12)/12))*DF12)+(DE12*(DD12/12)*DF12) -> 44824 | DH12: 22 | DI12: 4 | DJ12: =#REF! -> #REF! | DK12: 0 | DL12: =SUM(DH12:DK12)*12 -> #REF! | DM12: =($Q$43/100)*DG12 -> 0 | DN12: =$R$44*DG12 -> 0 | DO12: =$S$44*DG12 -> 0 | DP12: =$T$44*9000 -> 532.8
A13: Darren Champion | B13: 43313 | C13: 38.16 | D13: 1.84 | E13: =(C13+D13)*$E$28 -> 40 | F13: 0 | H13: =E13+F13 -> 40 | I13: 2080 | J13: =(E13*(((12-G13)/12))*I13)+(H13*(G13/12)*I13) -> 83200 | K13: =$K$4 -> 17.8 | L13: =$L$4 -> 4 | M13: =$M$9 -> 1022.84 | N13: 0 | O13: =SUM(K13:N13)*12 -> 12535.68 | P13: =J13*$P$8 -> 2080 | Q13: =($Q$8)*J13 -> 5824 | R13: =$R$8*J13 -> 5158.4 | S13: =$S$8*J13 -> 1206.4 | T13: =$T$8*9000 -> 24.3 | U13: =200*12 -> 2400 | CX13: Benny Perez | CY13: 40714 | CZ13: 23 | DA13: 0 | DB13: =(CZ13+DA13)*(1+$C$57/100) -> 23 | DC13: 0 | DD13: 6 | DE13: =DB13+DC13 -> 23 | DF13: 2080 | DG13: =(DB13*(((12-DD13)/12))*DF13)+(DE13*(DD13/12)*DF13) -> 47840 | DH13: 22 | DI13: 4 | DJ13: =#REF! -> #REF! | DK13: =#REF! -> #REF! | DL13: =SUM(DH13:DK13)*12 -> #REF! | DM13: =($Q$43/100)*DG13 -> 0 | DN13: =$R$44*DG13 -> 0 | DO13: =$S$44*DG13 -> 0 | DP13: =$T$44*9000 -> 532.8
A14: Scott Jakubec | B14: 43472 | C14: 42.82 | D14: 2.18 | E14: =(C14+D14)*$E$28 -> 45 | F14: 0 | H14: =E14+F14 -> 45 | I14: 2080 | J14: =(E14*(((12-G14)/12))*I14)+(H14*(G14/12)*I14) -> 93600 | K14: =$K$4 -> 17.8 | L14: =$L$4 -> 4 | M14: =$M$9 -> 1022.84 | N14: =$N$9 -> 542.16 | O14: =SUM(K14:N14)*12 -> 19041.6 | P14: =J14*$P$8 -> 2340 | Q14: =($Q$8)*J14 -> 6552 | R14: =$R$8*J14 -> 5803.2 | S14: =$S$8*J14 -> 1357.2 | T14: =$T$8*9000 -> 24.3 | U14: =200*12 -> 2400
A15: Colt Lee Hough | B15: 43717 | C15: 39.53 | D15: 3.47 | E15: =(C15+D15)*$E$28 -> 43 | F15: 0 | H15: =E15+F15 -> 43 | I15: 2080 | J15: =(E15*(((12-G15)/12))*I15)+(H15*(G15/12)*I15) -> 89440 | K15: =$K$4 -> 17.8 | L15: =$L$4 -> 4 | M15: =$M$9 -> 1022.84 | N15: 0 | O15: =SUM(K15:N15)*12 -> 12535.68 | P15: =J15*$P$8 -> 2236 | Q15: =($Q$8)*J15 -> 6260.8 | R15: =$R$8*J15 -> 5545.28 | S15: =$S$8*J15 -> 1296.88 | T15: =$T$8*9000 -> 24.3 | U15: =200*12 -> 2400 | DG15: =SUM(DG10:DG13) -> 153296 | DL15: =SUM(DL10:DL13) -> #REF! | DM15: =SUM(DM10:DM13) -> 0 | DN15: =SUM(DN10:DN13) -> 0 | DO15: =SUM(DO10:DO13) -> 0 | DP15: =SUM(DP10:DP13) -> 1598.4
A16: George Volarik | B16: 43941 | C16: 38.11 | D16: 4.89 | E16: =(C16+D16)*$E$28 -> 43 | F16: 0 | H16: =E16+F16 -> 43 | I16: 2080 | J16: =(E16*(((12-G16)/12))*I16)+(H16*(G16/12)*I16) -> 89440 | K16: =$K$4 -> 17.8 | L16: =$L$4 -> 4 | M16: =$M$9 -> 1022.84 | N16: =N9 -> 542.16 | O16: =SUM(K16:N16)*12 -> 19041.6 | P16: =J16*$P$8 -> 2236 | Q16: =($Q$8)*J16 -> 6260.8 | R16: =$R$8*J16 -> 5545.28 | S16: =$S$8*J16 -> 1296.88 | T16: =$T$8*9000 -> 24.3 | U16: =200*12 -> 2400 | CX16: Cost of living increase | CZ16: 5 | DD16: 0.5 | DE16: =#REF!*DD16 -> #REF!
A17: Hayden Wisnoski | B17: 44487 | C17: 30.12 | D17: 2.88 | E17: =(C17+D17)*$E$28 -> 33 | F17: 0 | H17: =E17+F17 -> 33 | I17: 2080 | J17: =(E17*(((12-G17)/12))*I17)+(H17*(G17/12)*I17) -> 68640 | K17: =$K$4 -> 17.8 | L17: =$L$4 -> 4 | M17: =$M$9 -> 1022.84 | N17: 0 | O17: =SUM(K17:N17)*12 -> 12535.68 | P17: =J17*$P$8 -> 1716 | Q17: =($Q$8)*J17 -> 4804.8 | R17: =$R$8*J17 -> 4255.68 | S17: =$S$8*J17 -> 995.28 | T17: =$T$8*9000 -> 24.3 | U17: =200*12 -> 2400 | CX17: Total Wages | DA17: 72792.82 | DD17: =#REF!/100 -> #REF! | DE17: =#REF!*DD17 -> #REF! | DG17: =DG14+#REF! -> #REF! | DN17: Payroll tax & Retirement = | DP17: =SUM(DM14:DP14) -> 0
A18: Tony Champion | B18: 44487 | C18: 33.4 | D18: 0.6 | E18: =(C18+D18)*$E$28 -> 34 | F18: 0 | H18: =E18+F18 -> 34 | I18: 2080 | J18: =(E18*(((12-G18)/12))*I18)+(H18*(G18/12)*I18) -> 70720 | K18: =$K$4 -> 17.8 | L18: =$L$4 -> 4 | M18: =$M$9 -> 1022.84 | N18: 0 | O18: =SUM(K18:N18)*12 -> 12535.68 | P18: =J18*$P$8 -> 1768 | Q18: =($Q$8)*J18 -> 4950.4 | R18: =$R$8*J18 -> 4384.64 | S18: =$S$8*J18 -> 1025.44 | T18: =$T$8*9000 -> 24.3 | U18: =200*12 -> 2400 | CX18: Total Wages | DA18: 72792.82 | DD18: =#REF!/100 -> #REF! | DE18: =DC17*DD18 -> #REF! | DG18: =#REF!+#REF! -> #REF! | DN18: Payroll tax & Retirement = | DP18: =SUM(#REF!) -> #REF!
A19: William Eversole | B19: 44599 | C19: 45.54 | D19: 2.5 | E19: =(C19+D19)*$E$28 -> 48.04 | F19: 2.5 | G19: 6 | H19: =E19+F19 -> 50.54 | I19: 2080 | J19: =(E19*(((12-G19)/12))*I19)+(H19*(G19/12)*I19) -> 102523.2 | K19: =$K$4 -> 17.8 | L19: =$L$4 -> 4 | M19: =$M$9 -> 1022.84 | N19: =N9 -> 542.16 | O19: =SUM(K19:N19)*12 -> 19041.6 | P19: =J19*$P$8 -> 2563.08 | Q19: =($Q$8)*J19 -> 7176.624 | R19: =$R$8*J19 -> 6356.4384 | S19: =$S$8*J19 -> 1486.5864 | T19: =$T$8*9000 -> 24.3 | U19: =200*12 -> 2400 | CX19: Total Wages | DA19: 72792.82 | DD19: =#REF!/100 -> #REF! | DE19: =#REF!*DD19 -> #REF! | DG19: =DG16+#REF! -> #REF! | DN19: Payroll tax & Retirement = | DP19: =SUM(DM16:DP16) -> 0
A20: Michael Jakubec | B20: 44614 | C20: 31.84 | D20: 1.16 | E20: =(C20+D20)*$E$28 -> 33 | F20: 0 | H20: =E20+F20 -> 33 | I20: 2080 | J20: =(E20*(((12-G20)/12))*I20)+(H20*(G20/12)*I20) -> 68640 | K20: =$K$4 -> 17.8 | L20: =$L$4 -> 4 | M20: =$M$9 -> 1022.84 | N20: 0 | O20: =SUM(K20:N20)*12 -> 12535.68 | P20: =J20*$P$8 -> 1716 | Q20: =($Q$8)*J20 -> 4804.8 | R20: =$R$8*J20 -> 4255.68 | S20: =$S$8*J20 -> 995.28 | T20: =$T$8*9000 -> 24.3 | U20: =200*12 -> 2400 | CX20: Total Wages | DA20: 72792.82 | DD20: =#REF!/100 -> #REF! | DE20: =DC19*DD20 -> #REF! | DG20: =#REF!+#REF! -> #REF! | DN20: Payroll tax & Retirement = | DP20: =SUM(#REF!) -> #REF!
A21: Scott Guajarado | B21: 45831 | C21: 27.57 | D21: 3.43 | E21: =(C21+D21)*$E$28 -> 31 | F21: 0 | H21: =E21+F21 -> 31 | I21: 2080 | J21: =(E21*(((12-G21)/12))*I21)+(H21*(G21/12)*I21) -> 64480 | K21: =$K$4 -> 17.8 | L21: =$L$4 -> 4 | M21: =$M$9 -> 1022.84 | N21: 0 | O21: =SUM(K21:N21)*12 -> 12535.68 | P21: =J21*$P$8 -> 1612 | Q21: =($Q$8)*J21 -> 4513.6 | R21: =$R$8*J21 -> 3997.76 | S21: =$S$8*J21 -> 934.96 | T21: =$T$8*9000 -> 24.3 | U21: =200*12 -> 2400 | CX21: Total Wages | DA21: 72792.82 | DD21: =CZ17/100 -> 0 | DE21: =DC18*DD21 -> 0 | DG21: =#REF!+DG17 -> #REF! | DN21: Payroll tax & Retirement = | DP21: =SUM(#REF!) -> #REF!
A22: Landon Blagg | B22: 45972 | C22: 25 | D22: 4 | E22: =(C22+D22)*$E$28 -> 29 | F22: 0 | H22: =E22+F22 -> 29 | I22: 2080 | J22: =(E22*(((12-G22)/12))*I22)+(H22*(G22/12)*I22) -> 60320 | K22: =$K$4 -> 17.8 | L22: =$L$4 -> 4 | M22: =$M$9 -> 1022.84 | N22: 0 | O22: =SUM(K22:N22)*12 -> 12535.68 | P22: =J22*$P$8 -> 1508 | Q22: =($Q$8)*J22 -> 4222.4 | R22: =$R$8*J22 -> 3739.84 | S22: =$S$8*J22 -> 874.64 | T22: =$T$8*9000 -> 24.3 | U22: =200*12 -> 2400
A23: Charles Vavrecka | B23: 45951 | C23: 25 | D23: 4 | E23: =(C23+D23)*$E$28 -> 29 | F23: 0 | H23: =E23+F23 -> 29 | I23: 2080 | J23: =(E23*(((12-G23)/12))*I23)+(H23*(G23/12)*I23) -> 60320 | K23: =$K$4 -> 17.8 | L23: =$L$4 -> 4 | M23: =$M$9 -> 1022.84 | N23: 0 | O23: =SUM(K23:N23)*12 -> 12535.68 | P23: =J23*$P$8 -> 1508 | Q23: =($Q$8)*J23 -> 4222.4 | R23: =$R$8*J23 -> 3739.84 | S23: =$S$8*J23 -> 874.64 | T23: =$T$8*9000 -> 24.3 | U23: =200*12 -> 2400
A24: Hunter Vavrecka | B24: 46216 | C24: 25 | D24: 25 | E24: =(C24+D24)*$E$28 -> 50 | F24: 0 | H24: =E24+F24 -> 50 | I24: 2080 | J24: =(E24*(((12-G24)/12))*I24)+(H24*(G24/12)*I24) -> 104000 | K24: =$K$4 -> 17.8 | L24: =$L$4 -> 4 | M24: =$M$9 -> 1022.84 | N24: 0 | O24: =SUM(K24:N24)*12 -> 12535.68 | P24: =J24*$P$8 -> 2600 | Q24: =($Q$8)*J24 -> 7280 | R24: =$R$8*J24 -> 6448 | S24: =$S$8*J24 -> 1508 | T24: =$T$8*9000 -> 24.3 | U24: =200*12 -> 2400
A25: New | C25: 25 | D25: 2.5 | E25: =(C25+D25)*1 -> 27.5 | F25: 0 | H25: =E25+F25 -> 27.5 | I25: 2080 | J25: =(E25*(((12-G25)/12))*I25)+(H25*(G25/12)*I25) -> 57200 | K25: =$K$4 -> 17.8 | L25: =$L$4 -> 4 | M25: =$M$9 -> 1022.84 | N25: 0 | O25: =SUM(K25:N25)*12 -> 12535.68 | P25: =J25*$P$8 -> 1430 | Q25: =($Q$8)*J25 -> 4004 | R25: =$R$8*J25 -> 3546.4 | S25: =$S$8*J25 -> 829.4 | T25: =$T$8*9000 -> 24.3 | U25: =200*12 -> 2400 | CX25: Total Wages | DA25: 72792.82 | DD25: =CZ18/100 -> 0 | DE25: =DC19*DD25 -> 0 | DG25: =#REF!+DG18 -> #REF! | DN25: Payroll tax & Retirement = | DP25: =SUM(#REF!) -> #REF!
A26: New | C26: 25 | D26: 2.5 | E26: =(C26+D26)*1 -> 27.5 | F26: 0 | H26: =E26+F26 -> 27.5 | I26: 2080 | J26: =(E26*(((12-G26)/12))*I26)+(H26*(G26/12)*I26) -> 57200 | K26: =$K$4 -> 17.8 | L26: =$L$4 -> 4 | M26: =$M$9 -> 1022.84 | N26: 0 | O26: =SUM(K26:N26)*12 -> 12535.68 | P26: =J26*$P$8 -> 1430 | Q26: =($Q$8)*J26 -> 4004 | R26: =$R$8*J26 -> 3546.4 | S26: =$S$8*J26 -> 829.4 | T26: =$T$8*9000 -> 24.3 | U26: =200*12 -> 2400 | CX26: Total Wages | DA26: 72792.82 | DD26: =CZ19/100 -> 0 | DE26: =DC20*DD26 -> 0 | DG26: =#REF!+DG19 -> #REF! | DN26: Payroll tax & Retirement = | DP26: =SUM(#REF!) -> #REF!
K27: =SUM(K10:K26) -> 302.6 | L27: =SUM(L10:L26) -> 68 | M27: =SUM(M10:M26) -> 17388.28 | N27: =SUM(N10:N26) -> 2710.8 | P27: =SUM(P10:P26) -> 35226.88 | Q27: =SUM(Q10:Q26) -> 98635.264 | R27: =SUM(R10:R26) -> 87362.662 | S27: =SUM(S10:S26) -> 20431.59 | T27: =SUM(T10:T26) -> 413.1 | U27: =SUM(U10:U26) -> 40800 | DA27: =#REF!/2080 -> #REF! | DG27: =J106 -> 0 | DJ27: 222094
A28: Cost of living increase | D28: =Budget!B73 -> 0 | E28: =((D28/100))+1 -> 1 | DG28: =#REF!-DG27 -> #REF! | DJ28: 216170
A29: Total Wages | F29: =SUM(F10:F26) -> 2.5 | H29: =SUM(H10:H26) -> 678.69 | J29: =SUM(J10:J26) -> 1409075.2 | O29: =SUM(O10:O26) -> 245636.16 | P29: =P27 -> 35226.88 | Q29: =Q27 -> 98635.264 | T29: =SUM(R27:T27) -> 108207.35 | U29: =U27 -> 40800 | CZ29: 15.38 | DA29: 0.05 | DB29: =CZ29*(1+DA29) -> 16.149 | DJ29: =DJ27-DJ28 -> 5924
DB30: =DB29-CZ29 -> 0.769
A31: Commisioners Insurance
A32: Lee Walden | C32: 1200 | J32: =C32*12 -> 14400 | M32: =$M$9 -> 1022.84 | N32: =N9 -> 542.16 | U32: 2400
A33: Kerry Osborn | C33: 1200 | J33: =C33*12 -> 14400 | M33: =$M$9 -> 1022.84 | N33: =N9 -> 542.16 | U33: 2400
A34: Branson Middleton | C34: 1200 | J34: =C34*12 -> 14400 | K34: =$K$4 -> 17.8 | L34: =$L$4 -> 4 | M34: =$M$9 -> 1022.84 | N34: =N9 -> 542.16 | U34: =200*12 -> 2400
K35: =SUM(K32:K34) -> 17.8 | L35: =SUM(L32:L34) -> 4 | M35: =SUM(M32:M34) -> 3068.52 | N35: =SUM(N32:N34) -> 1626.48 | O35: =(M35+N35)*12 -> 56340 | U35: =SUM(U32:U34) -> 7200
J37: =SUM(J32:J34) -> 43200 | O37: =O29+O35 -> 301976.16 | U37: =SUM(U10:U34) -> 129600
I39: `
B42: 37989 | D42: 0 | E42: =(C42+D42)*((($D$27)/100)+1) -> 0 | F42: 0 | H42: =E42+F42 -> 0 | I42: 2080 | J42: =(E42*(((12-G42)/12))*I42)+(H42*(G42/12)*I42) -> 0 | K42: =$K$4 -> 17.8 | L42: =$L$4 -> 4 | M42: =$M$9 -> 1022.84 | N42: =$N$9 -> 542.16 | O42: =SUM(K42:N42)*12 -> 19041.6 | Q42: =($Q$8)*J42 -> 0 | R42: =$R$8*J42 -> 0 | S42: =$S$8*J42 -> 0 | T42: =$T$8*9000 -> 24.3 | U42: =200*12 -> 2400 | CX42: Saul Guarjardo | CY42: 37989 | CZ42: 23 | DA42: 0 | DB42: =(CZ42+DA42)*(1+$C$57/100) -> 23 | DC42: 0 | DD42: 6 | DE42: =DB42+DC42 -> 23 | DF42: 2080 | DG42: =(DB42*(((12-DD42)/12))*DF42)+(DE42*(DD42/12)*DF42) -> 47840 | DH42: 22 | DI42: 4 | DJ42: =#REF! -> #REF! | DK42: 215.51 | DL42: =SUM(DH42:DK42)*12 -> #REF! | DM42: =($Q$43/100)*DG42 -> 0 | DN42: =$R$44*DG42 -> 0 | DO42: =$S$44*DG42 -> 0 | DP42: =$T$44*9000 -> 532.8
T44: 0.0592

Sheet Proposed Tax Rate 2026
A1: 2026 BRAZORIA DRAINAGE DISTRICT NO. 5
A3: Last Year M&O Tax Avg Residence Homestead | B3: % Increase | C3: Average Tax | D3: Rate | E3: 2026 Taxable Value | F3: Tax Revenue Generated
A4: =E16 -> 319.49 | B4: 0 | C4: =SUM(A4*1) -> 319.49 | D4: =(C4/$E$17)*100 -> 0.10601184 | E4: =E21 -> 4388308275 | F4: =SUM(D4*E4/100) -> 4652126.3 | G4: NO TAX INCREASE
A5: =E16 -> 319.49 | B5: 0.01 | C5: =SUM(A5*1.01) -> 322.6849 | D5: =(C5/$E$17)*100 -> 0.10707196 | E5: =E21 -> 4388308275 | F5: =SUM(D5*E5/100) -> 4698647.6
A6: =E16 -> 319.49 | B6: 0.02 | C6: =SUM(A6*1.02) -> 325.8798 | D6: =(C6/$E$17)*100 -> 0.10813208 | E6: =SUM(E21) -> 4388308275 | F6: =SUM(D6*E6/100) -> 4745168.8
A7: =E16 -> 319.49 | B7: 0.03 | C7: =SUM(A7*1.03) -> 329.0747 | D7: =(C7/$E$17)*100 -> 0.10919219 | E7: =E21 -> 4388308275 | F7: =SUM(D7*E7/100) -> 4791690.1
A8: =E16 -> 319.49 | B8: 0.035 | C8: =SUM(A8*1.035) -> 330.67215 | D8: =(C8/$E$17)*100 -> 0.10972225 | E8: =E21 -> 4388308275 | F8: =SUM(D8*E8/100) -> 4814950.7
A9: =E16 -> 319.49 | B9: 0.04 | C9: =SUM(A9*1.04) -> 332.2696 | D9: =(C9/$E$17)*100 -> 0.11025231 | E9: =SUM(E21) -> 4388308275 | F9: =SUM(D9*E9/100) -> 4838211.4
A10: =E16 -> 319.49 | B10: 0.05 | C10: =SUM(A10*1.05) -> 335.4645 | D10: =(C10/$E$17)*100 -> 0.11131243 | E10: =E21 -> 4388308275 | F10: =SUM(D10*E10/100) -> 4884732.6
A11: =E16 -> 319.49 | B11: 0.06 | C11: =SUM(A11*1.06) -> 338.6594 | D11: =(C11/$E$17)*100 -> 0.11237255 | E11: =SUM(E21) -> 4388308275 | F11: =SUM(D11*E11/100) -> 4931253.9
A12: =E16 -> 319.49 | B12: 0.07 | C12: =SUM(A12*1.07) -> 341.8543 | D12: =(C12/$E$17)*100 -> 0.11343267 | E12: =E21 -> 4388308275 | F12: =SUM(D12*E12/100) -> 4977775.2
A13: =E16 -> 319.49 | B13: 0.08 | C13: =SUM(A13*1.08) -> 345.0492 | D13: =(C13/$E$17)*100 -> 0.11449279 | E13: =SUM(E21) -> 4388308275 | F13: =SUM(D13*E13/100) -> 5024296.4 | G13: Tax Election Tax Rate
G14: You can adopt up to this rate without triggering an election.
D16: Last Year's Average Home Taxes: | E16: 319.49 | G16: Line 5
D17: This Year's Average Home Taxable Value: | E17: 301372 | G17: Line 9
D20: 2026 Revenue Required | E20: 2026 Taxable Value | F20: Rate to Generate Required Revenue | G20: taxable value from first page Net Taxable Value
C21: Enter Revenue Required HERE -----> | D21: 4345751 | E21: 4388308275 | F21: =SUM(D21/E21*100) -> 0.099030212 | G21: Be sure this rate does not exceed the Tax Election Tax Rate
C22: 2026 Tax Levy | D22: =F28 -> 4345678.4
C23: Difference | D23: =SUM(D21-D22) -> 72.633807
D26: 2025 Inforrmation
D27: 2025 Value | E27: 2025 Tax Rate | F27: 2025 Tax Levy
D28: 4007006202 | E28: 0.108452 | F28: =SUM(D28*E28/100) -> 4345678.4
C31: Increase = | D31: =E21-D28 -> 381302073

Sheet Posted Tax Rate 2025
A1: 2025 BRAZORIA DRAINAGE DISTRICT NO. 5
A3: Last Year M&O Tax Avg Residence Homestead | B3: % Increase | C3: Average Tax | D3: Rate | E3: 2026 Taxable Value | F3: Tax Revenue Generated
A4: =E16 -> 308.69 | B4: 0 | C4: =SUM(A4*1) -> 308.69 | D4: =(C4/$E$17)*100 -> 0.10478631 | E4: =E21 -> 4007006202 | F4: =SUM(D4*E4/100) -> 4198794.1 | G4: NO TAX INCREASE
A5: =E16 -> 308.69 | B5: 0.01 | C5: =SUM(A5*1.01) -> 311.7769 | D5: =(C5/$E$17)*100 -> 0.10583418 | E5: =E21 -> 4007006202 | F5: =SUM(D5*E5/100) -> 4240782
A6: =E16 -> 308.69 | B6: 0.02 | C6: =SUM(A6*1.02) -> 314.8638 | D6: =(C6/$E$17)*100 -> 0.10688204 | E6: =SUM(E21) -> 4007006202 | F6: =SUM(D6*E6/100) -> 4282769.9
A7: =E16 -> 308.69 | B7: 0.03 | C7: =SUM(A7*1.03) -> 317.9507 | D7: =(C7/$E$17)*100 -> 0.1079299 | E7: =E21 -> 4007006202 | F7: =SUM(D7*E7/100) -> 4324757.9
A8: =E16 -> 308.69 | B8: 0.035 | C8: =SUM(A8*1.035) -> 319.49415 | D8: =(C8/$E$17)*100 -> 0.10845383 | E8: =E21 -> 4007006202 | F8: =SUM(D8*E8/100) -> 4345751.9
A9: =E16 -> 308.69 | B9: 0.04 | C9: =SUM(A9*1.04) -> 321.0376 | D9: =(C9/$E$17)*100 -> 0.10897777 | E9: =SUM(E21) -> 4007006202 | F9: =SUM(D9*E9/100) -> 4366745.8
A10: =E16 -> 308.69 | B10: 0.05 | C10: =SUM(A10*1.05) -> 324.1245 | D10: =(C10/$E$17)*100 -> 0.11002563 | E10: =E21 -> 4007006202 | F10: =SUM(D10*E10/100) -> 4408733.8
A11: =E16 -> 308.69 | B11: 0.06 | C11: =SUM(A11*1.06) -> 327.2114 | D11: =(C11/$E$17)*100 -> 0.11107349 | E11: =SUM(E21) -> 4007006202 | F11: =SUM(D11*E11/100) -> 4450721.7
A12: =E16 -> 308.69 | B12: 0.07 | C12: =SUM(A12*1.07) -> 330.2983 | D12: =(C12/$E$17)*100 -> 0.11212136 | E12: =E21 -> 4007006202 | F12: =SUM(D12*E12/100) -> 4492709.7
A13: =E16 -> 308.69 | B13: 0.08 | C13: =SUM(A13*1.08) -> 333.3852 | D13: =(C13/$E$17)*100 -> 0.11316922 | E13: =SUM(E21) -> 4007006202 | F13: =SUM(D13*E13/100) -> 4534697.6 | G13: Tax Election Tax Rate
G14: You can adopt up to this rate without triggering an election.
D16: Last Year's Average Home Taxes: | E16: 308.69 | G16: Line 5
D17: This Year's Average Home Taxable Value: | E17: 294590 | G17: Line 9
D20: 2025 Revenue Required | E20: 2025 Taxable Value | F20: Rate to Generate Required Revenue
C21: Enter Revenue Required HERE -----> | D21: 3001582 | E21: 4007006202 | F21: =SUM(D21/E21*100) -> 0.074908344 | G21: Be sure this rate does not exceed the Tax Election Tax Rate
C22: 2025 Tax Levy | D22: 4345752
C23: Difference | D23: =SUM(D21-D22) -> -1344170
D26: 2024 Inforrmation
D27: 2024 Value | E27: 2024 Tax Rate | F27: 2024 Tax Levy
D28: ='Posted Tax Rate 2024'!E21 -> 3414464026 | E28: 0.10047206 | F28: =SUM(D28*E28/100) -> 3430582.5
C31: Increase = | D31: =E21-D28 -> 592542176

Sheet Posted Tax Rate 2024
A1: 2024 BRAZORIA DRAINAGE DISTRICT NO. 5
A3: Last Year M&O Tax Avg Residence Homestead | B3: % Increase | C3: Average Tax | D3: Rate | E3: 2023 Taxable Value | F3: Tax Revenue Generated
A4: =E16 -> 298.27 | B4: 0 | C4: =SUM(A4*1) -> 298.27 | D4: =SUM(C4/E17*100) -> 0.10056271 | E4: =E21 -> 3414464026 | F4: =SUM(D4*E4/100) -> 3433677.5 | G4: NO TAX INCREASE
A5: =E16 -> 298.27 | B5: 0.01 | C5: =SUM(A5*1.01) -> 301.2527 | D5: =SUM(C5/E17*100) -> 0.10156834 | E5: =E21 -> 3414464026 | F5: =SUM(D5*E5/100) -> 3468014.3
A6: =E16 -> 298.27 | B6: 0.02 | C6: =SUM(A6*1.02) -> 304.2354 | D6: =SUM(C6/E17*100) -> 0.10257396 | E6: =SUM(E21) -> 3414464026 | F6: =SUM(D6*E6/100) -> 3502351.1
A7: =E16 -> 298.27 | B7: 0.03 | C7: =SUM(A7*1.03) -> 307.2181 | D7: =SUM(C7/E17*100) -> 0.10357959 | E7: =E21 -> 3414464026 | F7: =SUM(D7*E7/100) -> 3536687.8
A8: =E16 -> 298.27 | B8: 0.035 | C8: =SUM(A8*1.035) -> 308.70945 | D8: =SUM(C8/E17*100) -> 0.1040824 | E8: =E21 -> 3414464026 | F8: =SUM(D8*E8/100) -> 3553856.2
A9: =E16 -> 298.27 | B9: 0.04 | C9: =SUM(A9*1.04) -> 310.2008 | D9: =SUM(C9/E17*100) -> 0.10458522 | E9: =SUM(E21) -> 3414464026 | F9: =SUM(D9*E9/100) -> 3571024.6
A10: =E16 -> 298.27 | B10: 0.05 | C10: =SUM(A10*1.05) -> 313.1835 | D10: =SUM(C10/E17*100) -> 0.10559084 | E10: =E21 -> 3414464026 | F10: =SUM(D10*E10/100) -> 3605361.4
A11: =E16 -> 298.27 | B11: 0.06 | C11: =SUM(A11*1.06) -> 316.1662 | D11: =SUM(C11/E17*100) -> 0.10659647 | E11: =SUM(E21) -> 3414464026 | F11: =SUM(D11*E11/100) -> 3639698.2
A12: =E16 -> 298.27 | B12: 0.07 | C12: =SUM(A12*1.07) -> 319.1489 | D12: =SUM(C12/E17*100) -> 0.1076021 | E12: =E21 -> 3414464026 | F12: =SUM(D12*E12/100) -> 3674034.9
A13: =E16 -> 298.27 | B13: 0.08 | C13: =SUM(A13*1.08) -> 322.1316 | D13: =SUM(C13/E17*100)-0.000001 -> 0.10860673 | E13: =SUM(E21) -> 3414464026 | F13: =SUM(D13*E13/100) -> 3708337.6 | G13: Tax Election Tax Rate
G14: You can adopt up to this rate without triggering an election.
D16: Last Year's Average Home Taxes: | E16: 298.27 | G16: Line 5
D17: This Year's Average Home Taxable Value: | E17: 296601 | G17: Line 9
D20: 2024 Revenue Required | E20: 2024 Taxable Value | F20: Rate to Generate Required Revenue
C21: Enter Revenue Required HERE -----> | D21: 3001582 | E21: 3414464026 | F21: =SUM(D21/E21*100) -> 0.087907853 | G21: Be sure this rate does not exceed the Tax Election Tax Rate
C22: 2023Tax Levy | D22: =F28 -> 3001582
C23: Difference | D23: =SUM(D21-D22) -> 0
D26: 2023 Inforrmation
D27: 2023 Value | E27: 2023 Tax Rate | F27: 2022 Tax Levy
D28: 2987479198 | E28: 0.10047206 | F28: =SUM(D28*E28/100) -> 3001582
C31: Increase = | D31: =E21-D28 -> 426984828

Sheet Posted Tax Rates 2023
A1: 2023 BRAZORIA DRAINAGE DISTRICT NO. 5
A3: Last Year M&O Tax Avg Residence Homestead | B3: % Increase | C3: Average Tax | D3: Rate | E3: 2023 Taxable Value | F3: Tax Revenue Generated
A4: =E15 -> 298.27 | B4: 0 | C4: =SUM(A4*1) -> 298.27 | D4: =SUM(C4/E16*100) -> 0.10056271 | E4: =E20 -> 2987479198 | F4: =SUM(D4*E4/100) -> 3004290 | G4: NO TAX INCREASE
A5: =E15 -> 298.27 | B5: 0.01 | C5: =SUM(A5*1.01) -> 301.2527 | D5: =SUM(C5/E16*100) -> 0.10156834 | E5: =E20 -> 2987479198 | F5: =SUM(D5*E5/100) -> 3034332.9
A6: =E15 -> 298.27 | B6: 0.02 | C6: =SUM(A6*1.02) -> 304.2354 | D6: =SUM(C6/E16*100) -> 0.10257396 | E6: =SUM(E20) -> 2987479198 | F6: =SUM(D6*E6/100) -> 3064375.8
A7: =E15 -> 298.27 | B7: 0.03 | C7: =SUM(A7*1.03) -> 307.2181 | D7: =SUM(C7/E16*100) -> 0.10357959 | E7: =E20 -> 2987479198 | F7: =SUM(D7*E7/100) -> 3094418.7
A8: =E15 -> 298.27 | B8: 0.04 | C8: =SUM(A8*1.04) -> 310.2008 | D8: =SUM(C8/E16*100) -> 0.10458522 | E8: =SUM(E20) -> 2987479198 | F8: =SUM(D8*E8/100) -> 3124461.6
A9: =E15 -> 298.27 | B9: 0.05 | C9: =SUM(A9*1.05) -> 313.1835 | D9: =SUM(C9/E16*100) -> 0.10559084 | E9: =E20 -> 2987479198 | F9: =SUM(D9*E9/100) -> 3154504.5
A10: =E15 -> 298.27 | B10: 0.06 | C10: =SUM(A10*1.06) -> 316.1662 | D10: =SUM(C10/E16*100) -> 0.10659647 | E10: =SUM(E20) -> 2987479198 | F10: =SUM(D10*E10/100) -> 3184547.4
A11: =E15 -> 298.27 | B11: 0.07 | C11: =SUM(A11*1.07) -> 319.1489 | D11: =SUM(C11/E16*100) -> 0.1076021 | E11: =E20 -> 2987479198 | F11: =SUM(D11*E11/100) -> 3214590.3
A12: =E15 -> 298.27 | B12: 0.08 | C12: =SUM(A12*1.08) -> 322.1316 | D12: =SUM(C12/E16*100)-0.000001 -> 0.10860673 | E12: =SUM(E20) -> 2987479198 | F12: =SUM(D12*E12/100) -> 3244603.3 | G12: Tax Election Tax Rate
G13: You can adopt up to this rate without triggering an election.
D15: Last Year's Average Home Taxes: | E15: 298.27 | G15: Line 5
D16: This Year's Average Home Taxable Value: | E16: 296601 | G16: Line 9
D19: 2023 Revenue Required | E19: 2023 Taxable Value | F19: Rate to Generate Required Revenue
C20: Enter Revenue Required HERE -----> | D20: 3001582 | E20: 2987479198 | F20: =SUM(D20/E20*100) -> 0.10047206 | G20: Be sure this rate does not exceed the Tax Election Tax Rate
C21: 2022 Tax Levy | D21: =F27 -> #REF!
C22: Difference | D22: =SUM(D20-D21) -> #REF!
D25: 2022 Inforrmation
D26: 2022 Value | E26: 2022 Tax Rate | F26: 2022 Tax Levy
D27: ='[1]2022'!E20 -> #REF! | E27: 0.123851 | F27: =SUM(D27*E27/100) -> #REF!
D30: =E20-D27 -> #REF!
